Workbook

Sheet QCOB PQ - 220V_SAPATAS
B1: MINISTÉRIO DA EDUCAÇÃO
B5: Obra: Projeto Padrão FNDE - Quadra coberta pequena - opção 220V com sapatas
B6: Data de preço: janeiro/2019 com desoneração
B7: Unidade federativa: Bahia
B8: Planilha Orçamentária | J8: 0.277
E10: Quadra coberta pequena - 220V com sapatas | J10: =J104 -> 282569.19
B12: ITEM | C12: CÓDIGO | D12: FONTE | E12: DESCRIÇÃO DOS SERVIÇOS | F12: UN. | G12: QUANT. | H12: CUSTO (R$) | I12: PREÇO (R$) | J12: VALOR (R$)
B14: 1 | E14: SERVIÇOS PRELIMINARES | J14: =J17 -> 6493.1364
B15: 1.1 | C15: 99059 | D15: SINAPI | E15: Locação da obra (execução de gabarito) | F15: m² | G15: 116 | H15: 36.05 | I15: =G15*H15 -> 4181.8 | J15: =I15*1.277 -> 5340.1586
B16: 1.2 | C16: 73859/2 | D16: SINAPI | E16: Limpeza mecanizada de terreno com remoção de camada vegetal | F16: m² | G16: 792 | H16: 1.14 | I16: =G16*H16 -> 902.88 | J16: =I16*1.277 -> 1152.9778
G17: Subtotal | J17: =SUM(J15:J16) -> 6493.1364
B19: 2 | E19: MOVIMENTO DE TERRA PARA FUNDAÇÕES | J19: =J23 -> 6026.3139
B20: 2.1 | C20: 93358 | D20: SINAPI | E20: Escavação manual de valas em qualquer terreno exceto rocha até h= 2,0m | F20: m³ | G20: 58.08 | H20: 56.64 | I20: =G20*H20 -> 3289.6512 | J20: =I20*1.277 -> 4200.8846
B21: 2.2 | C21: 94098 | D21: SINAPI | E21: Regularização e compactação do fundo de valas | F21: m² | G21: 41.98 | H21: 5.11 | I21: =G21*H21 -> 214.5178 | J21: =I21*1.277 -> 273.93923
B22: 2.3 | C22: 96995 | D22: SINAPI | E22: Reaterro apiloado de vala com material da obra | F22: m³ | G22: 35.38 | H22: 34.34 | I22: =G22*H22 -> 1214.9492 | J22: =I22*1.277 -> 1551.4901
G23: Subtotal | J23: =SUM(J20:J22) -> 6026.3139
B25: 3 | E25: FUNDAÇÕES | J25: =J39 -> 36566.027
B26: 3.1 | E26: CONCRETO ARMADO - SAPATAS
B27: 3.1.1 | C27: 116 | D27: ORSE | E27: Forma de madeira em tábuas para fundações, com reaproveitamento | F27: m² | G27: 84.96 | H27: 54.41 | I27: =G27*H27 -> 4622.6736 | J27: =I27*1.277 -> 5903.1542
B28: 3.1.2 | C28: 95241 | D28: SINAPI | E28: Lastro de concreto não-estrutural, espessura 5cm | F28: m² | G28: 25.92 | H28: 21.52 | I28: =G28*H28 -> 557.7984 | J28: =I28*1.277 -> 712.30856
B29: 3.1.3 | C29: 92917 | D29: SINAPI | E29: Armação de aço CA-50 Ø 8mm; incluso fornecimento, corte, dobra e colocação | F29: kg | G29: 231.27 | H29: 8.98 | I29: =G29*H29 -> 2076.8046 | J29: =I29*1.277 -> 2652.0795
B30: 3.1.4 | C30: 92919 | D30: SINAPI | E30: Armação de aço CA-50 Ø 10mm; incluso fornecimento, corte, dobra e colocação | F30: kg | G30: 475.45 | H30: 7.3 | I30: =G30*H30 -> 3470.785 | J30: =I30*1.277 -> 4432.1924
B31: 3.1.5 | C31: 92915 | D31: SINAPI | E31: Armação de aço CA-60 Ø 5mm; incluso fornecimento, corte, dobra e colocação | F31: kg | G31: 190.91 | H31: 10.84 | I31: =G31*H31 -> 2069.4644 | J31: =I31*1.277 -> 2642.706
B32: 3.1.6 | C32: 92720 | D32: SINAPI | E32: Concreto Bombeado fck= 25MPa; incluindo preparo, lançamento e adensamento | F32: m³ | G32: 19.15 | H32: 346.43 | I32: =G32*H32 -> 6634.1345 | J32: =I32*1.277 -> 8471.7898
B33: 3.2 | E33: CONCRETO ARMADO - VIGAS BALDRAMES
B34: 3.2.1 | C34: 116 | D34: ORSE | E34: Forma de madeira em tábuas para fundações, com reaproveitamento | F34: m² | G34: 84.96 | H34: 54.41 | I34: =G34*H34 -> 4622.6736 | J34: =I34*1.277 -> 5903.1542
B35: 3.2.2 | C35: 95241 | D35: SINAPI | E35: Lastro de concreto não-estrutural, espessura 5cm | F35: m² | G35: 16.06 | H35: 21.52 | I35: =G35*H35 -> 345.6112 | J35: =I35*1.277 -> 441.3455
B36: 3.2.3 | C36: 92793 | D36: SINAPI | E36: Armação de aço CA-50 Ø 6,3 a 12,5mm; incluso fornecimento, corte, dobra e colocação | F36: kg | G36: 177.09 | H36: 6.37 | I36: =G36*H36 -> 1128.0633 | J36: =I36*1.277 -> 1440.5368
B37: 3.2.4 | C37: 92791 | D37: SINAPI | E37: Armação de aço CA-60 Ø 3,4 a 6,0mm; incluso fornecimento, corte, dobra e colocação | F37: kg | G37: 76.27 | H37: 6.48 | I37: =G37*H37 -> 494.2296 | J37: =I37*1.277 -> 631.1312
B38: 3.2.5 | C38: 92720 | D38: SINAPI | E38: Concreto Bombeado fck= 25MPa; incluindo preparo, lançamento e adensamento | F38: m³ | G38: 7.54 | H38: 346.43 | I38: =G38*H38 -> 2612.0822 | J38: =I38*1.277 -> 3335.629
G39: Subtotal | J39: =SUM(J26:J38) -> 36566.027
B41: 4 | E41: SUPERESTRUTURA | J41: =J48 -> 131203.29
B42: 4.1 | E42: CONCRETO ARMADO - REVESTIMENTO DOS PILARES
B43: 4.1.1 | C43: 92510 | D43: SINAPI | E43: Montagem e desmontagem de forma, madeira compensada com reaproveitamento | F43: m² | G43: 30.6 | H43: 34.54 | I43: =G43*H43 -> 1056.924 | J43: =I43*1.277 -> 1349.6919
B44: 4.1.2 | C44: 92720 | D44: SINAPI | E44: Concreto Bombeado fck= 25MPa; incluindo preparo, lançamento e adensamento | F44: m³ | G44: 5.4 | H44: 346.43 | I44: =G44*H44 -> 1870.722 | J44: =I44*1.277 -> 2388.912
B45: 4.2 | E45: ESTRUTURA METÁLICA
B46: 4.2.1 | C46: 73970/1 | D46: SINAPI | E46: Estrutura metálica para colunas, altura variável | F46: kg | G46: 3200.77 | H46: 10.59 | I46: =G46*H46 -> 33896.154 | J46: =I46*1.277 -> 43285.389
B47: 4.2.2 | C47: 73970/1 | D47: SINAPI | E47: Estrutura metálica em arco; vão de 16,70m | F47: Kg | G47: 6224.7 | H47: 10.59 | I47: =G47*H47 -> 65919.573 | J47: =I47*1.277 -> 84179.295
G48: Subtotal | J48: =SUM(J42:J47) -> 131203.29
B50: 5 | E50: SISTEMAS DE COBERTURA | J50: =J55 -> 63788.548
B51: 5.1 | C51: 94213 | D51: SINAPI | E51: Telha metálica ondulada, espessura 0,5mm (cobertura em arco) | F51: m² | G51: 652.2 | H51: 45.05 | I51: =G51*H51 -> 29381.61 | J51: =I51*1.277 -> 37520.316
B52: 5.2 | C52: 94213 | D52: SINAPI | E52: Telha metálica ondulada, espessura 0,5mm (fechamento lateral) | F52: m² | G52: 222.14 | H52: 45.05 | I52: =G52*H52 -> 10007.407 | J52: =I52*1.277 -> 12779.459
B53: 5.3 | C53: 94213 | D53: SINAPI | E53: Telha metálica ondulada, espssura 0,5mm (fechamento lateral) | F53: m² | G53: 157.3 | H53: 45.05 | I53: =G53*H53 -> 7086.365 | J53: =I53*1.277 -> 9049.2881
B54: 5.4 | C54: 94228 | D54: SINAPI | E54: Calha em chapa metálica nº 24, desenvolvimento de 50cm | F54: m | G54: 64.32 | H54: 54.05 | I54: =G54*H54 -> 3476.496 | J54: =I54*1.277 -> 4439.4854
G55: Subtotal | J55: =SUM(J51:J54) -> 63788.548
B57: 6 | E57: IMPERMEABILIZAÇÃO | J57: =J59 -> 2104.8433
B58: 6.1 | C58: 74106/1 | D58: SINAPI | E58: Impermeabilização de superfície com tinta betuminosa em fundações, 2 demãos | F58: m² | G58: 179.16 | H58: 9.2 | I58: =G58*H58 -> 1648.272 | J58: =I58*1.277 -> 2104.8433
G59: Subtotal | J59: =SUM(J58:J58) -> 2104.8433
B61: 7 | E61: PINTURAS E ACABAMENTOS | J61: =J65 -> 14238.089
B62: 7.1 | C62: C2466 | D62: SEINFRA | E62: Pintura com Tinta Acrílica, 2 demãos | F62: m² | G62: 61.2 | H62: 30.86 | I62: =G62*H62 -> 1888.632 | J62: =I62*1.277 -> 2411.7831
B63: 7.3 | C63: 73924/3 | D63: SINAPI | E63: Pintura esmalte para estrutura metálica, 2 demãos | F63: m² | G63: 298.67 | H63: 22.96 | I63: =G63*H63 -> 6857.4632 | J63: =I63*1.277 -> 8756.9805
B64: 7.4 | C64: 74145/1 | D64: SINAPI | E64: Pintura esmalte para telhamento metálico com fundo anticorrosivo, 2 demãos | F64: m² | G64: 157.3 | H64: 15.28 | I64: =G64*H64 -> 2403.544 | J64: =I64*1.277 -> 3069.3257
G65: Subtotal | J65: =SUM(J62:J64) -> 14238.089
B67: 8 | E67: DRENAGEM DE ÁGUAS PLUVIAIS | J67: =J71 -> 2480.1894
B68: 8.1 | E68: TUBULAÇÕES E CONEXÕES DE PVC
B69: 8.1.1 | C69: 89580 | D69: SINAPI | E69: Tubo PVC para água pluvial Ø 150mm, fornecimento e instalação | F69: m | G69: 22 | H69: 48.84 | I69: =G69*H69 -> 1074.48 | J69: =I69*1.277 -> 1372.111
B70: 8.1.2 | C70: 89590 | D70: SINAPI | E70: Joelho PVC 90º para água pluvial Ø 150mm, fornecimento e instalação | F70: un | G70: 12 | H70: 72.31 | I70: =G70*H70 -> 867.72 | J70: =I70*1.277 -> 1108.0784
G71: Subtotal | J71: =SUM(J68:J70) -> 2480.1894
B73: 9 | E73: INSTALAÇÃO ELÉTRICA - 220V | J73: =J98 -> 13538.205
B74: 9.1 | E74: CENTRO DE DISTRIBUIÇÃO
B75: 9.1.1 | C75: 83463 | D75: SINAPI | E75: Quadro de distribuição de energia para 12 disjuntores, fornecimento e instalação | F75: un | G75: 1 | H75: 225.73 | I75: =G75*H75 -> 225.73 | J75: =I75*1.277 -> 288.25721
B76: 9.1.2 | C76: 74130/1 | D76: SINAPI | E76: Disjuntor termomagnético monopolar 10A, fornecimento e instalação | F76: un | G76: 1 | H76: 12.44 | I76: =G76*H76 -> 12.44 | J76: =I76*1.277 -> 15.88588
B77: 9.1.3 | C77: 74130/1 | D77: SINAPI | E77: Disjuntor termomagnético monopolar 20A, fornecimento e instalação | F77: un | G77: 5 | H77: 12.44 | I77: =G77*H77 -> 62.2 | J77: =I77*1.277 -> 79.4294
B78: 9.1.4 | C78: 74130/4 | D78: SINAPI | E78: Disjuntor termomagnético tripolar 25A, fornecimento e instalação | F78: un | G78: 2 | H78: 80.99 | I78: =G78*H78 -> 161.98 | J78: =I78*1.277 -> 206.84846
B79: 9.2 | E79: ELETRODUTOS E ACESSÓRIOS
B80: 9.2.1 | C80: 95746 | D80: SINAPI | E80: Eletroduto de aço galvanizado Ø 25mm, inclusive conexões | F80: m | G80: 70 | H80: 15.42 | I80: =G80*H80 -> 1079.4 | J80: =I80*1.277 -> 1378.3938
B81: 9.2.2 | C81: 95748 | D81: SINAPI | E81: Eletroduto de aço galvanizado Ø 40mm, inclusive conexões | F81: m | G81: 10 | H81: 26.73 | I81: =G81*H81 -> 267.3 | J81: =I81*1.277 -> 341.3421
B82: 9.2.3 | C82: 95811 | D82: SINAPI | E82: Condulete em alumínio tipo LB de ¾", inclusive acessórios | F82: un | G82: 5 | H82: 9.52 | I82: =G82*H82 -> 47.6 | J82: =I82*1.277 -> 60.7852
B83: 9.2.4 | C83: 95814 | D83: SINAPI | E83: Condulete em alumínio tipo TA de ¾", inclusive acessórios | F83: un | G83: 4 | H83: 11.88 | I83: =G83*H83 -> 47.52 | J83: =I83*1.277 -> 60.68304
B84: 9.2.5 | C84: 95817 | D84: SINAPI | E84: Condulete em alumínio tipo XA de ¾", inclusive acessórios | F84: un | G84: 1 | H84: 23.85 | I84: =G84*H84 -> 23.85 | J84: =I84*1.277 -> 30.45645
B85: 9.2.6 | C85: C0466 | D85: SEINFRA | E85: Abraçadeira metálica tipo D de ¾", fornecimento e instalação | F85: un | G85: 40 | H85: 5.28 | I85: =G85*H85 -> 211.2 | J85: =I85*1.277 -> 269.7024
B86: 9.2.7 | C86: C0466 | D86: SEINFRA | E86: Abraçadeira metálica tipo D de 1", fornecimento e instalação | F86: un | G86: 4 | H86: 5.28 | I86: =G86*H86 -> 21.12 | J86: =I86*1.277 -> 26.97024
B87: 9.2.8 | C87: 92695 | D87: SINAPI | E87: Abraçadeira de ferro modular tipo dupla tipo U, fornecimento e instalação | F87: un | G87: 2 | H87: 15.19 | I87: =G87*H87 -> 30.38 | J87: =I87*1.277 -> 38.79526
B88: 9.2.9 | D88: CPU | E88: Bucha e arruela de aço galvanizado ¾", fornecimento e instalação | F88: cj | G88: 50 | H88: 15 | I88: =G88*H88 -> 750 | J88: =I88*1.277 -> 957.75
B89: 9.2.10 | D89: CPU | E89: Bucha e arruela de aço galvanizado 1", fornecimento e instalação | F89: cj | G89: 4 | H89: 16.7 | I89: =G89*H89 -> 66.8 | J89: =I89*1.277 -> 85.3036
B90: 9.2.11 | C90: 92695 | D90: SINAPI | E90: Luva de aço galvanizado ¾'', fornecimento e instalação | F90: un | G90: 10 | H90: 15.19 | I90: =G90*H90 -> 151.9 | J90: =I90*1.277 -> 193.9763
B91: 9.2.12 | C91: 92662 | D91: SINAPI | E91: Luva de aço galvanizado 1'', fornecimento e instalação | F91: un | G91: 2 | H91: 24.47 | I91: =G91*H91 -> 48.94 | J91: =I91*1.277 -> 62.49638
B92: 9.3 | E92: CABOS E FIOS CONDUTORES
B93: 9.3.1 | C93: 91926 | D93: SINAPI | E93: Cabo de cobre flexível, isolado, seção de 2,5mm²; anti-chama 450/750V | F93: m | G93: 3 | H93: 2.53 | I93: =G93*H93 -> 7.59 | J93: =I93*1.277 -> 9.69243
B94: 9.3.2 | C94: 91928 | D94: SINAPI | E94: Cabo de cobre flexível, isolado, seção de 4mm²; anti-chama 450/750V | F94: m | G94: 280 | H94: 4.01 | I94: =G94*H94 -> 1122.8 | J94: =I94*1.277 -> 1433.8156
B95: 9.4 | E95: ILUMINAÇÃO E TOMADAS
B96: 9.4.1 | C96: 92001 | D96: SINAPI | E96: Tomada universal 2P+T 20A/250V com suporte e placa, fornecimento e instalação | F96: un | G96: 1 | H96: 22.82 | I96: =G96*H96 -> 22.82 | J96: =I96*1.277 -> 29.14114
B97: 9.4.2 | D97: CPU | E97: Refletor de Led, potencia 300W, bivolt, temp.cor 6400K, | F97: un | G97: 20 | H97: 312 | I97: =G97*H97 -> 6240 | J97: =I97*1.277 -> 7968.48
G98: Subtotal | J98: =SUM(J74:J97) -> 13538.205
B100: 10 | E100: SERVIÇOS FINAIS | J100: =J102 -> 6130.5577
B101: 10.1 | C101: C1628 | D101: SEINFRA | E101: Limpeza geral de quadra poliesportiva | F101: m² | G101: 519 | H101: 9.25 | I101: =G101*H101 -> 4800.75 | J101: =I101*1.277 -> 6130.5577
G102: Subtotal | J102: =SUM(J101:J101) -> 6130.5577
G104: Valor TOTAL com BDI | J104: =ROUNDDOWN(J102+J98+J65+J59+J55+J39+J23+J17+J48+J71,2) -> 282569.19
J105: =J104*11 -> 3108261.1

Sheet CRONOGRAMA
B2: Ministério da Educação
B4: Obra: Projeto Padrão FNDE - Cobertura de quadra pequena - sapatas
B5: Município: Bom Jesus da Lapa - Bahia
B6: Endereço: Zona Rural do Município
B8: PLANEJAMENTO
B10: ITEM | C10: DESCRIÇÃO DOS SERVIÇOS | D10: VALOR (R$) | E10: % ITEM | F10: 1 | G10: 2 | H10: 3 | I10: 4
B12: 1 | C12: SERVIÇOS PRELIMINARES | D12: ='QCOB PQ - 220V_SAPATAS'!J14 -> 6493.1364 | E12: =D12/D34 -> 0.022978925 | F12: 1
F13: =D12*F12 -> 6493.1364
B14: 2 | C14: MOVIMENTO DE TERRAS | D14: ='QCOB PQ - 220V_SAPATAS'!J19 -> 6026.3139 | E14: =D14/D34 -> 0.021326861 | F14: 1
F15: =$D14*F14 -> 6026.3139
B16: 3 | C16: FUNDAÇÕES | D16: ='QCOB PQ - 220V_SAPATAS'!J25 -> 36566.027 | E16: =D16/D34 -> 0.12940557 | F16: 0.6 | G16: 0.4
F17: =D16*F16 -> 21939.616 | G17: =D16*G16 -> 14626.411
B18: 4 | C18: SUPERESTRUTURA | D18: ='QCOB PQ - 220V_SAPATAS'!J41 -> 131203.29 | E18: =D18/D34 -> 0.46432269 | G18: 0.6 | H18: 0.4
G19: =D18*G18 -> 78721.973 | H19: =D18*H18 -> 52481.315
B20: 5 | C20: SISTEMAS DE COBERTURA | D20: ='QCOB PQ - 220V_SAPATAS'!J50 -> 63788.548 | E20: =D20/D34 -> 0.22574488 | G20: 0.7 | H20: 0.3
G21: =D20*G20 -> 44651.984 | H21: =D20*H20 -> 19136.564
B22: 6 | C22: IMPERMEABILIZAÇÃO | D22: ='QCOB PQ - 220V_SAPATAS'!J57 -> 2104.8433 | E22: =D22/D34 -> 0.0074489485 | F22: 1
F23: =$D22*F22 -> 2104.8433
B24: 7 | C24: PINTURA | D24: ='QCOB PQ - 220V_SAPATAS'!J61 -> 14238.089 | E24: =D24/D34 -> 0.050387975 | I24: 1
I25: =I24*D24 -> 14238.089
B26: 8 | C26: DRENAGEM DE ÁGUAS PLUVIAIS | D26: ='QCOB PQ - 220V_SAPATAS'!J67 -> 2480.1894 | E26: =D26/D34 -> 0.0087772818 | G26: 0.2 | H26: 0.4 | I26: 0.4
G27: =G26*D26 -> 496.03788 | H27: =H26*D26 -> 992.07576 | I27: =I26*D26 -> 992.07576
B28: 9 | C28: INSTALAÇÕES ELÉTRICAS (110V/220V) | D28: ='QCOB PQ - 220V_SAPATAS'!J73 -> 13538.205 | E28: =D28/D34 -> 0.047911115 | G28: 0.2 | H28: 0.2 | I28: 0.6
G29: =$D28*G28 -> 2707.641 | H29: =$D28*H28 -> 2707.641 | I29: =$D28*I28 -> 8122.9229
B30: 10 | C30: SERVIÇOS FINAIS | D30: ='QCOB PQ - 220V_SAPATAS'!J100 -> 6130.5577 | E30: =D30/D34 -> 0.021695776 | I30: 1
I31: =$D30*I30 -> 6130.5577
B34: VALORES TOTAIS | D34: =ROUNDDOWN(D12+D14+D16+D18+D20+D22+D24+D26+D28+D30,2) -> 282569.19 | E34: =SUM(E12:E31) -> 1 | F34: =F13+F15+F17+F23 -> 36563.91 | G34: =G17+G19+G21+G27+G29 -> 141204.05 | H34: =H19+H21+H27+H29 -> 75317.596 | I34: =I25+I27+I29+I31 -> 29483.646
F35: =F34/$D$34 -> 0.12939808 | G35: =G34/$D$34 -> 0.49971494 | H35: =H34/$D$34 -> 0.26654568 | I35: =I34/$D$34 -> 0.10434133
F36: =E36+F35 -> 0.12939808 | G36: =F36+G35 -> 0.62911302 | H36: =G36+H35 -> 0.8956587 | I36: =H36+I35 -> 1
